BEGIN:VCALENDAR
VERSION:2.0
PRODID:-//MedQuality - ECPv6.8.1//NONSGML v1.0//EN
CALSCALE:GREGORIAN
METHOD:PUBLISH
X-ORIGINAL-URL:https://medqualitytraining.com
X-WR-CALDESC:Eventos para MedQuality
REFRESH-INTERVAL;VALUE=DURATION:PT1H
X-Robots-Tag:noindex
X-PUBLISHED-TTL:PT1H
BEGIN:VTIMEZONE
TZID:America/Argentina/Mendoza
BEGIN:STANDARD
TZOFFSETFROM:-0300
TZOFFSETTO:-0300
TZNAME:-03
DTSTART:20240101T000000
END:STANDARD
END:VTIMEZONE
BEGIN:VEVENT
DTSTART;TZID=America/Argentina/Mendoza:20241203T190000
DTEND;TZID=America/Argentina/Mendoza:20241203T200000
DTSTAMP:20260423T072424
CREATED:20241109T162430Z
LAST-MODIFIED:20241109T164838Z
UID:2307-1733252400-1733256000@medqualitytraining.com
SUMMARY:¿COMPETENCIAS - EL CÓMO ME DIFERENCIO Y PROGRESO EN MI ROL PROFESIONAL?
DESCRIPTION:Introducción a las bases de las competencias \n  \n¿qué es la competencia para mi crecimiento profesional? \n  \ncómo me entreno en competencias \n 
URL:https://medqualitytraining.com/evento/competencias-el-como-me-diferencio-y-progreso-en-mi-rol-profesional/
ATTACH;FMTTYPE=image/png:https://medqualitytraining.com/wp-content/uploads/2024/11/Diferenciarse.png
ORGANIZER;CN="Med Quality":MAILTO:escuelamedquality@gmail.com
END:VEVENT
END:VCALENDAR